Workbook
Name CONTENIDO: DATOS!$C$2:$C$6
Name OBJETIVO: DATOS!$B$2:$B$6
Name TEMA: DATOS!$A$2:$A$4

Sheet 1. ARQUETIPOS
B1: WhatsApp. 477 772 4672 | D1: cristina.novoa@diginova.mx
B3: Arquetipo 1 | F3: Ejemplo
B4: Quien compra su servicio o producto | F4: Quien compra su servicio o producto
B5: Nombre de la Persona | F5: Nombre de la Persona | G5: Mario
B6: Edad | F6: Edad | G6: 32
B7: Nivel de escolaridad | F7: Nivel de escolaridad | G7: Educación Superior completa
B8: Sexo | F8: Sexo | G8: Masculino
B9: ¿Qué su Persona hace? (Cargo/Ocupación) | F9: ¿Qué su persona hace? (Cargo/Ocupación) | G9: Director de Marketing
B10: Tamaño de la empresa donde trabaja | F10: Tamaño de la empresa donde trabaja | G10: Más de 40 funcionarios
B12: Comportamiento | F12: Comportamiento
B13: Describa su persona, sus hábitos y su día a día | F13: Describa su persona, sus hábitos y su día a día | G13: Mario es un adicto al trabajo y entiende algunas cosas sobre Marketing Digital e Inbound Marketing. Al tener varios proyectos en su empresa, no tuvo tiempo para probar los mecanismos de Inbound y comprobar el valor del canal para los directivos.
B14: ¿Cuáles son los medios de comunicación usados por su Persona? | D14: Redes Sociales | F14: ¿Cuáles son los medios de comunicación usados por su Persona? | H14: Redes Sociales
D15: Blogs | G15: x | H15: Blogs
D16: Anuncios de media tradicional (TV, radio, prensa) | H16: Anuncios de media tradicional (TV, radio, prensa)
D17: Anuncios de media digital (google adwords, facebook ads) | H17: Anuncios de media digital (google adwords, facebook ads)
D18: Email | G18: x | H18: Email
D19: Teléfono | H19: Teléfono
D20: Otros: Whats App/ Reuniones virtuales y presenciales, conferencias | H20: Otros:
B22: Objetivos y Desafíos | F22: Objetivos y Desafíos
B23: ¿Cuál es el objetivo personal o profesional que su cliente ideal busca alcanzar y en el cual usted podría ayudarle? | F23: ¿Cuál es el objetivo personal o profesional que su cliente ideal busca alcanzar y en el cual usted podría ayudarle? | G23: Hacer que la empresa donde trabaja se convierta en una referencia en el mercado
B24: ¿Qué obstáculos enfrenta su cliente ideal que le dificultan alcanzar sus objetivos? | F24: ¿Qué obstáculos enfrenta su cliente ideal que le dificultan alcanzar sus objetivos? | G24: Muchas tareas y proyectos en un día a día. Luchar para mejorar la productividad del equipo, pero todavía tiene dificultades para hacerlo.
B25: ¿De qué manera nuestra solución ayuda a su cliente ideal a superar los desafíos identificados? | F25: ¿De qué manera nuestra solución ayuda a su cliente ideal a superar los desafíos identificados? | G25: Varias de las tareas del día a día se pueden automatizar con RD Station, liberando recursos para centrarse en otras iniciativas importantes para la empresa.
B26: ¿Cuál es el objetivo actual de la empresa y por qué es importante alcanzarlo? | F26: ¿Cuál es el objetivo actual de la empresa y por qué es importante alcanzarlo? | G26: La empresa busca reducir los costos de adquisición de clientes y necesita medir las etapas de adquisición con precisión para saber dónde mejorar.
B27: ¿Qué factores están frenando o impulsando este proceso? | F27: ¿Qué factores están frenando o impulsando este proceso? | G27: El miedo de costos ocultos en el proceso de Marketing Digital que consumen el presupuesto de marketing más allá de lo previsto.
B28: ¿Cómo percibe el comprador el impacto positivo que esta adquisición podría tener en su trabajo? | F28: ¿Cómo percibe el comprador el impacto positivo que esta adquisición podría tener en su trabajo? | G28: El Director será visto como muy competente si consigue aumentar los ingresos de la empresa mediante la reducción del costo de adquisición de clientes.
B29: ¿A quién recurre su cliente ideal cuando necesita información o asesoramiento profesional? | F29: ¿A quién recurre su cliente ideal cuando necesita información o asesoramiento profesional? | G29: Agencias Digitales, gurús y consultores.
B30: ¿Qué situaciones podrían hacer que esta adquisición ya no sea necesaria? | F30: ¿Qué situaciones podrían hacer que esta adquisición ya no sea necesaria? | G30: El cambio por una herramienta de CRM ya usada en otras empresas del grupo.
B31: ¿Qué tipo de experiencia espera su cliente ideal al buscar información adicional? | F31: ¿Qué tipo de experiencia espera su cliente ideal al buscar información adicional? | G31: El director le gustaría tener números y datos que pueda presentar en la reunión anual de planificación para justificar la compra.
B32: ¿Cuáles son las objeciones más comunes que su cliente ideal tiene acerca de su producto/servicio/solución? | F32: ¿Cuáles son las objeciones más comunes que su cliente ideal tiene acerca de su producto/servicio/solución? | G32: Cree que es demasiado complejo de implementar y utilizar.
B33: ¿Qué aspectos valora más su cliente ideal en relación con su producto/servicio/solución? | F33: ¿Qué aspectos valora más su cliente ideal en relación con su producto/servicio/solución? | G33: La reputación del proveedor.
B34: ¿Qué es lo que su cliente ideal intenta lograr que considera más valioso? | F34: ¿Qué es lo que su cliente ideal intenta lograr que considera más valioso? | G34: Demostrar mejor los resultados de su trabajo.
B37: Arquetipo 2 | F37: Arquetipo 3
B38: Quien compra su servicio o producto | F38: Quien compra su servicio o producto
B39: Nombre de la Persona | F39: Nombre de la Persona
B40: Edad | F40: Edad
B41: Nivel de escolaridad | F41: Nivel de escolaridad
B42: Sexo | F42: Sexo
B43: ¿Qué su Persona hace? (Cargo/Ocupación) | F43: ¿Qué su Persona hace? (Cargo/Ocupación)
B44: Tamaño de la empresa donde trabaja | F44: Tamaño de la empresa donde trabaja
B46: Comportamiento | F46: Comportamiento
...

Sheet 2. PROPUESTA DE VALOR
C1: WhatsApp. 477 772 4672 | G1: cristina.novoa@diginova.mx
B3: GIRO/NEGOCIO | C3: RESULTADO FINAL ESPERADO | E3: - | G3: GIRO/NEGOCIO | H3: RESULTADO FINAL ESPERADO | J3: - | L3: GIRO/NEGOCIO | M3: RESULTADO FINAL ESPERADO | O3: -
C4: ANTES :( | D4: DESPUÉS :) | H4: ANTES :( | I4: DESPUÉS :) | M4: ANTES :( | N4: DESPUÉS :)
B5: TENER | E5: VALOR PERCIBIDO | G5: TENER | J5: VALOR PERCIBIDO | L5: TENER | O5: VALOR PERCIBIDO
B6: SENTIR | G6: SENTIR | L6: SENTIR
B7: DÍA PROMEDIO | G7: DÍA PROMEDIO | L7: DÍA PROMEDIO
B8: STATUS | G8: STATUS | L8: STATUS
C9: Lo que la gente tiene antes de conocerte | D9: Lo que la gente obtiene después de conocerte | E9: + | H9: Lo que la gente tiene antes de conocerte | I9: Lo que la gente obtiene después de conocerte | J9: + | M9: Lo que la gente tiene antes de conocerte | N9: Lo que la gente obtiene después de conocerte | O9: +
B10: ARQUETIPO DE CLIENTE 1 | G10: ARQUETIPO DE CLIENTE 2 | L10: ARQUETIPO DE CLIENTE 3
B13: Es importante realizar una campaña diferente por cada arquetipo, ya que para obtener mejor alcance hay que realizar la micro segmentación
B14: Segmentación por arquetipo
B16: GIRO/NEGOCIO | C16: RESULTADO FINAL ESPERADO | E16: -
B17: AUTOLAVADO | C17: ANTES :( | D17: DESPUÉS :)
B18: TENER | C18: Coche sucio | D18: Coche limpio | E18: VALOR PERCIBIDO
B19: SENTIR | C19: Apenado Enojado | D19: Confiado Cómodo
B20: DÍA PROMEDIO | C20: Fin de semana perdido | D20: Disfrutando con la familia
B21: STATUS | C21: Ordinario | D21: Role Model
C22: Lo que la gente tiene antes de conocerte | D22: Lo que la gente obtiene después de conocerte | E22: +
B23: EJEMPLO

Sheet 3. IDEAS DE CONTENIDO
E1: WhatsApp. 477 772 4672 | G1: cristina.novoa@diginova.mx
D4: Proceso de compra #1 | N4: Ejemplo
D5: Persona: | N5: Persona: | O5: Mario
D7: Aprendizaje y Descubrimiento | N7: Aprendizaje y Descubrimiento
D9: Ideas de contenido | N9: Ideas de contenido
N11: Todo lo que usted necesita saber para resolver los bajo ingresos de su empresa
N12: Cómo evitar los costos muy altos
N13: Cómo resolvimos el problema de poco dinero en caja en nuestra empresa
D15: Reconocimiento del problema | N15: Reconocimiento del problema
D17: Principal problema / desafío | N17: Principal problema / desafío
N18: No saber cómo está siendo gastado el dinero de su empresa
D20: Ideas de contenido | N20: Ideas de contenido
N21: Los mejores posts sobre control de cuentas a pagar que usted necesita leer
N22: Todo lo que usted necesita saber sobre control de cuentas por cobrar
N23: eBook: 10 consejos sobre informes financieros
D25: Consideración de la solución | N25: Consideración de la solución
D27: Principal solución para este problema / desafío | N27: Principal solución para este problema / desafío
N28: Mejor control financiero
D30: Ideas de contenido | N30: Ideas de contenido
N31: 5 libros sobre buen control financiero que usted debe leer
N32: Cómo hacer control financiero de la forma correcta
N33: Informe: cómo el mercado está invirtiendo en mayor control financiero
D35: Decisión de compra | N35: Decisión de compra
D37: Producto | N37: Producto
N38: Software de gestión financiera
D40: Ideas de contenido | N40: Ideas de contenido
N41: Todo lo que usted necesita saber sobre software de gestión financiera
N42: ¿Por qué el software de gestión financiera de nuestra empresa es su mejor opción?
N43: 5 motivos para adquirir un software de gestión financiera
B48: HUMAN 2 HUMAN
B49: ¿CÓMO PASA UN DESCONOCIDO A SER UN CLIENTE LEAL?
B50: 1. PRIMER CITA | D50: 2. PROPUESTA | F50: 3. BODA | J50: PROCESO DE COMPRA | R50: EJEMPLO
B52: + | C52: Escalera de valor | J52: + | K52: Escalera de valor | R52: + | S52: Escalera de valor
B53: Valor | C53: 5. Lealtad | D53: Se vuelve generador de la marca, fan y embajador de la marca. | J53: Valor | K53: 5. Lealtad | R53: Valor | S53: 5. Lealtad | T53: Cuando la gente quieren coleccionar el producto como tal, el reto es poner a la marca como broches coleccionables
C54: 4. Ascensión | D54: Adquerimos clientes, el cliente puede ver más de los servicios o productos que ofrecemos y asciende a más. | K54: 4. Ascensión | S54: 4. Ascensión | T54: La experiencia de compra y los TIPS que da UNO+ en cómo usar su producto
C55: 3. Selección | D55: Cambia de un simple porspecto a un prospecto calificado, ya puso un compromiso con la empresa o negocio, pide más información. | K55: 3. Selección | S55: 3. Selección | T55: Por el costo y beneficio
C56: 2. Consideración | D56: Es cuando tu prospecto empieza a tener interacción. | K56: 2. Consideración | S56: 2. Consideración | T56: Cuando lo ven personas importantes y se quieren sentir parte de
C57: 1. Descubrimiento | D57: Descubre tu marca, sabe que existes, crear campañas específicas para ello. | K57: 1. Descubrimiento | S57: 1. Descubrimiento | T57: Facilidad de uso y los costos de la web (no aplica Palacio de Hierro)
B58: - | J58: - | R58: -

Sheet 4. PROCESO DE COMPRA EMBUDO
E1: WhatsApp. 477 772 4672 | G1: cristina.novoa@diginova.mx
B3: Un embudo de ventas es una campaña multi-fases y multi-modalidad que amigable y sutilmente conduce a un prospecto hacia una acción deseada.
B4: Descubrimiento | C4: Es el alcance de las campañas, cuánta gente ve tu anuncio | H4: Ven tu anuncio
B5: Consideración | C5: Es la gente que interactúa, le dan clic al anuncio, visitan la LP o ven el video | H5: Dan clic en el anuncio
B6: Selecicón | C6: Es cuando ya tenemos el contacto del cliente, ya llenó el formulario y dejó sus datos de contacto | H6: Dejan sus datos (Prospecto)
B7: Ascensión | C7: Una vez que ya tienes el contacto y le diste el valor y se dio el "resultado final esperado", se puede ofrecer los demás servicios o productos adicionales, es momento de ofrecerlos. | H7: Compran (Cliente)
B8: Lealtad | C8: Estrategias para que te | H8: Te recomiendan (Embajadores)
F11: FUNNEL ESTRATEGIA DE LA CAMPAÑA

Sheet 5. METRICAS CLAVE
C1: WhatsApp. 477 772 4672 | E1: cristina.novoa@diginova.mx
B3: VARIABLES | F3: Resultados Esperados de la Campaña
B4: Presupuesto Diario | C4: 50 | G4: Total de campaña | H4: Diario
B5: Alcance mínimo diario | C5: 540 | F5: Alcance | G5: =G16 -> 42600 | H5: =G5/'6. PROYECCIÓN DE UNA CAMPAÑA'!$C$3 -> 1420
B6: Alcance máximo diario | C6: 2300 | F6: CTR | G6: ='6. PROYECCIÓN DE UNA CAMPAÑA'!$C$8 -> 0.01 | H6: ='6. PROYECCIÓN DE UNA CAMPAÑA'!$C$8 -> 0.01
F7: Visitas al elemento de conversión | G7: =G5*G6 -> 426 | H7: =G7/'6. PROYECCIÓN DE UNA CAMPAÑA'!$C$3 -> 14.2
F8: % conversión del elemento de conversión | G8: ='6. PROYECCIÓN DE UNA CAMPAÑA'!$C$7 -> 0.2 | H8: ='6. PROYECCIÓN DE UNA CAMPAÑA'!$C$7 -> 0.2
F9: Prospectos Generados | G9: =G7*G8 -> 85.2 | H9: =G9/'6. PROYECCIÓN DE UNA CAMPAÑA'!$C$3 -> 2.84
B10: Instrucciones: | F10: % Cierre de Prospectos | G10: ='6. PROYECCIÓN DE UNA CAMPAÑA'!$C$6 -> 0.1 | H10: ='6. PROYECCIÓN DE UNA CAMPAÑA'!$C$6 -> 0.1
B11: De acuerdo al alcance diario necesario de la hoja anterior define el presupuesto de tu campaña para lograr un alcance promedio diario igual o mayor al de la hoja anterior. | F11: Clientes Generados | G11: =G9*G10 -> 8.52 | H11: =G11/'6. PROYECCIÓN DE UNA CAMPAÑA'!$C$3 -> 0.284
F13: INDICADORES CLAVE
F14: Ticket Promedio | G14: ='6. PROYECCIÓN DE UNA CAMPAÑA'!C5 -> 1600
F15: 0 | G15: =AVERAGE(C5:C6) -> 1420
F16: Alcance Estimado de la campaña | G16: ='6. PROYECCIÓN DE UNA CAMPAÑA'!$C$3*G15 -> 42600
F17: CPL | G17: =(C4*'6. PROYECCIÓN DE UNA CAMPAÑA'!$C$3)/G9 -> 17.605634
F18: CPA | G18: =(C4*'6. PROYECCIÓN DE UNA CAMPAÑA'!$C$3)/G11 -> 176.05634
F19: Ventas | G19: =G14*G11 -> 13632
F20: ROI | G20: =(G19-C4*'6. PROYECCIÓN DE UNA CAMPAÑA'!$C$3)/(C4*'6. PROYECCIÓN DE UNA CAMPAÑA'!$C$3) -> 8.088
B25: MÉTRICAS CLAVE
B26: CPL | C26: Costo por Prospecto | E26: Es la cantidad de dinero que tenemos que gastar para conseguir un prospecto calificado para la compra de nuestro producto o servicio.
C27: inversión/#prospectos
B28: CPA | C28: Costo por Cliente | E28: Es la cantidad de dinero que tenemos que gastar para conseguir un cliente para nuestro producto o servicio.
C29: inversión/#clientes
B30: LTV | C30: Valor de Vida del Cliente | E30: Se refiere al valor monetario promedio que representa un nuevo cliente para nuestro negocio.
C31: (ticket promedio)(#compras)
B32: ROI | C32: Retorno de Inverisón | E32: Es la proporción de las ventas que se obtienen comparado con la inversión
C33: (ventas-inversión)/inversión
B34: *Si nosotros tenemos un negocio que le damos valor al cliente y es mayor que el costo por cliente, tenemos un negocio rentable y escalable, la rentabilidad es grande.
B36: LTV >>> CPA

Sheet 6. PROYECCIÓN DE UNA CAMPAÑA
B1: WhatsApp. 477 772 4672 | C1: cristina.novoa@diginova.mx
B3: ¿Cuánto quieres que dure tu campaña? (días) | C3: 30 | E3: Instrucciones
B4: ¿Cuánto quieres vender? | C4: 50000 | E4: Llena las celdas de color azul de acuerdo a los objetivos e indicadores de tu negocio.
B5: ¿Cuánto es tu ticket promedio? | C5: 1600
B6: ¿Qué porcentaje de conversión tendrás de prospectos a clientes? | C6: 0.1 | D6: % | E6: Algunos estandares de conversión de los elementos de converión son:
B7: ¿Qué porcentaje de conversión tendrás en tu elemento de conversión?(landing page, formulario,mensaje) | C7: 0.2 | D7: % | E7: 20% para más información
B8: CTR esperado del anuncio | C8: 0.01 | D8: % | E8: 30% para un cupón
E9: 40% para un ebook (contenido de valor) Se recomienda para cuando uno ofrece un servicio.
B10: Necesitas conseguir este número de clientes | C10: =C4/C5 -> 31.25
B11: Necesitas conseguir este número de prospectos | C11: =C10/C6 -> 312.5
B12: Necesitas que tu campaña tenga un alcance de (personas) | C12: =C11/C7/C8 -> 156250 | E12: El CTR de 1% lo manejamos como un valor contastante, depende de la relevancia del anuncio y la segmentación.
B13: Alcance diario necesario | C13: =C12/C3 -> 5208.3333

Sheet 7. INFO
C1: WhatsApp. 477 772 4672 | D1: cristina.novoa@diginova.mx
B3: INFO REDES SOCIALES
C4: Datos de la empresa | F4: EXISTEN DIVERSOS OBJETIVOS QUE PUEDEN ESTAR VINCULADOS A TU ESTRATEGIA
B5: Sitio web | F5: 1 | G5: Atraer tráfico al sitio y/o blog
B6: Teléfono | F6: 2 | G6: Divulgación y fortalecimiento de la marca
B7: Correo | F7: 3 | G7: Ser un canal de comunicación con los clientes
B8: WhatsApp | F8: 4 | G8: Educación a través de la difusión de contenido
B9: Redes Sociales | F9: 5 | G9: Ventas
B10: Facebook
B11: Instagram
B12: Twitter
B13: Tiktok
B14: YouTube
B15: LinkedIn
B16: Información (servicios o productos que ofrecen
B17: Círculo de oro (Filosofía de la empresa con lo que trata la empresa)

Sheet 8. CALENDARIO EDITORIAL
C1: WhatsApp. 477 772 4672 | D1: cristina.novoa@diginova.mx
B3: ANATOMÍA DE UN ANUNCIO
B4: Título | C4: Lo que debe de hacer la gente u obtendrá.
B5: Texto / Copy post | C5: Llamar a tu audiencia, problema y solución (Resultado final esperado).
B6: Imagen o Video (Tipo de contenido) | C6: Hace referencia a la oferta de la que se habla en el texto.
B7: Llamado a la acción (CTA) | C7: De acuerdo a lo que se pide a la gente que haga con el anuncio.
B8: Enlace de visualización | C8: Que tenga armonía con el resto del anuncio, puede quedar en blanco.
B9: Descripción del enlace en la sección de noticias | C9: Escasez, bonus o valor agregado.
B11: Planeación completa del tiempo de contrato forzoso
B12: #POST | C12: FECHA DE PUBLICACIÓN | D12: HORA | E12: TEMA DE LA PUBLICACIÓN | F12: OBJETIVO | G12: TIPO DE CONTENIDO | H12: TÍTULO | I12: COPY DE LA PUBLICACIÓN (se habla del resultado final esperado y se tiene un CTA) | J12: CTA | K12: ENLACE DE VISUALIZACIÓN | L12: DESCRIPCIÓN DEL ENLACE EN LA SECCIÓN DE NOTICIAS
B13: 1
B14: 2
B15: 3
B16: 4
B17: 5
B18: 6
B19: 7
B20: 8
B21: 9
B22: 10
B23: 11
B24: 12
... B112: 100

Sheet DATOS
A1: TEMA DE LA PUBLICACIÓN | B1: OBJETIVO | C1: TIPO DE CONTENIDO
A2: Interés/Relevante/Entretenimiento | B2: 1. Descubrimiento | C2: Imagen
A3: Motivacional/Oferta de Lealtad | B3: 2. Consideración | C3: Video
A4: Promocional | B4: 3. Selección | C4: Galería/Carrusel
B5: 4. Ascensión | C5: Enlace propio
B6: 5. Lealtad | C6: Enlace de un tercero
